

BEGIN:VCALENDAR
VERSION:2.0
PRODID:-//La Red - ECPv6.14.2//NONSGML v1.0//EN
CALSCALE:GREGORIAN
METHOD:PUBLISH
X-ORIGINAL-URL:https://la-red.eu
X-WR-CALDESC:Veranstaltungen für La Red
REFRESH-INTERVAL;VALUE=DURATION:PT1H
X-Robots-Tag:noindex
X-PUBLISHED-TTL:PT1H
BEGIN:VTIMEZONE
TZID:Europe/Berlin
BEGIN:DAYLIGHT
TZOFFSETFROM:+0100
TZOFFSETTO:+0200
TZNAME:CEST
DTSTART:20250330T010000
END:DAYLIGHT
BEGIN:STANDARD
TZOFFSETFROM:+0200
TZOFFSETTO:+0100
TZNAME:CET
DTSTART:20251026T010000
END:STANDARD
END:VTIMEZONE
BEGIN:VEVENT
DTSTART;TZID=Europe/Berlin:20251208T093000
DTEND;TZID=Europe/Berlin:20251208T170000
DTSTAMP:20260423T063021
CREATED:20251105T111458Z
LAST-MODIFIED:20251112T084629Z
UID:14206-1765186200-1765213200@la-red.eu
SUMMARY:Strategien im Umgang mit Rassismus und Diskriminierung für vulnerable Zielgruppen - Ein Workshop für Fachkräfte und Engagierte
DESCRIPTION:Rassismus und Diskriminierung begegnen uns täglich – in der Beratung\, in Institutionen und im eigenen Handeln. Wie können wir als Fachkräfte vulnerable Zielgruppen empowernd und solidarisch begleiten? Wie erkennen wir strukturelle Diskriminierung und entwickeln Handlungsstrategien für eine diskriminierungskritische Praxis?  \nIn diesem interaktiven Workshop setzen wir uns mit den Wirkungsweisen von Rassismus auseinander – als gesamtgesellschaftliches Machtverhältnis\, das tief in Sprache\, Denken und Institutionen verankert ist. Gemeinsam analysieren wir\, wie Rassismus mit anderen Formen gruppenbezogener Menschenfeindlichkeit wie Antisemitismus\, Sexismus oder Queerfeindlichkeit verwoben ist.  \nWas Sie erwartet:   \n\nFachinput & Reflexion: Theoretische Grundlagen zu Rassismus\, Diskriminierung und Intersektionalität – kombiniert mit Selbstreflexion und Erfahrungsaustausch.  \n\n\nPraxisnahe Einblicke: Exkursion zur Beratungsstelle ReachOut – Dialog mit Expert*innen über solidarische Unterstützungsstrukturen und professionelle Parteilichkeit.  \n\n\nHandlungskompetenz: Entwicklung von Strategien für eine empowernde und diskriminierungssensible Beratungspraxis.  \n\n\nNetzwerk & Austausch: Raum für kollegiale Reflexion\, gemeinsame Lösungsansätze und Stärkung der demokratischen Resilienz. \n\n🔹 Erweitern Sie Ihre professionelle Handlungskompetenz im Umgang mit rassistischen Dynamiken.   \n🔹 Reflektieren Sie eigene Haltungen und Privilegien – für eine sensiblere Begleitung vulnerabler Zielgruppen.   \n🔹 Lernen Sie diskriminierungskritische Beratungsansätze kennen und übertragen Sie diese in Ihren Arbeitsalltag.   \n🔹 Stärken Sie Ihre politische Urteilsfähigkeit und zivilgesellschaftliche Verantwortung.  \nFür wen? Fachkräfte und Engagierte\, die mit vulnerablen Zielgruppen arbeiten – insbesondere in Beratung\, Sozialer Arbeit\, Bildung oder zivilgesellschaftlichen Kontexten.  \nLeitung: Lesli Sánchez Gatica & Grit Fenner  \nKontakt & Anmeldung: fenner@la-red.eu 
URL:https://la-red.eu/veranstaltung/strategien-im-umgang-mit-rassismus-und-diskriminierung-fuer-vulnerable-zielgruppen-ein-workshop-fuer-fachkraefte-und-engagierte
LOCATION:La Red e.V.\, Alt-Reinickendorf 25\, Berlin\, 13407
CATEGORIES:TpB
ORGANIZER;CN="La Red":MAILTO:la-red@la-red.eu
END:VEVENT
END:VCALENDAR