

BEGIN:VCALENDAR
VERSION:2.0
PRODID:-//La Red - ECPv6.14.2//NONSGML v1.0//EN
CALSCALE:GREGORIAN
METHOD:PUBLISH
X-WR-CALNAME:La Red
X-ORIGINAL-URL:https://la-red.eu
X-WR-CALDESC:Veranstaltungen für La Red
REFRESH-INTERVAL;VALUE=DURATION:PT1H
X-Robots-Tag:noindex
X-PUBLISHED-TTL:PT1H
BEGIN:VTIMEZONE
TZID:Europe/Berlin
BEGIN:DAYLIGHT
TZOFFSETFROM:+0100
TZOFFSETTO:+0200
TZNAME:CEST
DTSTART:20250330T010000
END:DAYLIGHT
BEGIN:STANDARD
TZOFFSETFROM:+0200
TZOFFSETTO:+0100
TZNAME:CET
DTSTART:20251026T010000
END:STANDARD
END:VTIMEZONE
BEGIN:VEVENT
DTSTART;TZID=Europe/Berlin:20251209T110000
DTEND;TZID=Europe/Berlin:20251209T123000
DTSTAMP:20260423T075617
CREATED:20251124T135324Z
LAST-MODIFIED:20251208T113049Z
UID:14283-1765278000-1765283400@la-red.eu
SUMMARY:- CANCELADO - Ready\, Set: Berlin! - en Español
DESCRIPTION:¿Acabas de llegar a Berlín y aún no sabes muy bien qué hacer?\n\nHemos preparado este taller especialmente para ti.\n\n\n\n\n\n\n\n¡Ready\, Set\, Berlin!\n\n\n\n\n\n\n\n Dónde: On-line (via Zoom)\n Cuándo: Martes\, 09.12.25\n 11:00-12:30 en Español\n\n\n\n\n\n\n\n\n\nInscríbate: zib@la-red.eu
URL:https://la-red.eu/veranstaltung/ready-set-berlin-spa
CATEGORIES:ZiB
END:VEVENT
BEGIN:VEVENT
DTSTART;TZID=Europe/Berlin:20251209T140000
DTEND;TZID=Europe/Berlin:20251209T153000
DTSTAMP:20260423T075617
CREATED:20251124T142948Z
LAST-MODIFIED:20251208T113110Z
UID:14290-1765288800-1765294200@la-red.eu
SUMMARY:- CANCELED - Ready\, Set: Berlin! - in English
DESCRIPTION:Have you just arrived in Berlin and aren’t quite sure what to do yet?\n\nWe’ve planned this workshop especially for you.\n\n¡Ready\, Set\, Berlin!\n\n\n\n\n\n\n Where:: On-line (via Zoom)\n When: Tuesday\, December 9\, 2025\n 14:00-15:30 in English\n\n\n\n\n\n\n\n\n\nSign up: zib@la-red.eu
URL:https://la-red.eu/veranstaltung/ready-set-berlin-eng
CATEGORIES:ZiB
END:VEVENT
END:VCALENDAR