

BEGIN:VCALENDAR
VERSION:2.0
PRODID:-//La Red - ECPv6.14.2//NONSGML v1.0//EN
CALSCALE:GREGORIAN
METHOD:PUBLISH
X-WR-CALNAME:La Red
X-ORIGINAL-URL:https://la-red.eu
X-WR-CALDESC:Veranstaltungen für La Red
REFRESH-INTERVAL;VALUE=DURATION:PT1H
X-Robots-Tag:noindex
X-PUBLISHED-TTL:PT1H
BEGIN:VTIMEZONE
TZID:Europe/Berlin
BEGIN:DAYLIGHT
TZOFFSETFROM:+0100
TZOFFSETTO:+0200
TZNAME:CEST
DTSTART:20250330T010000
END:DAYLIGHT
BEGIN:STANDARD
TZOFFSETFROM:+0200
TZOFFSETTO:+0100
TZNAME:CET
DTSTART:20251026T010000
END:STANDARD
END:VTIMEZONE
BEGIN:VEVENT
DTSTART;TZID=Europe/Berlin:20251212T093000
DTEND;TZID=Europe/Berlin:20251212T170000
DTSTAMP:20260423T112304
CREATED:20251107T120241Z
LAST-MODIFIED:20251120T120419Z
UID:14218-1765531800-1765558800@la-red.eu
SUMMARY:Workshop: „Verschwörungserzählungen und Desinformation in diversen Communities“
DESCRIPTION:Verschwörungserzählungen und Desinformation sind allgegenwärtig – in allen Communities. Sie beeinflussen Diskurse\, stärken Vorurteile und können gesellschaftliche Spannungen verstärken. Doch wie erkennt man sie? Warum entstehen sie? Und wie kann man ihnen begegnen? \nIn diesem interaktiven Workshop setzen wir uns mit diesen Fragen auseinander. Gemeinsam analysieren wir Beispiele aus verschiedenen Communities\, diskutieren Hintergründe und entwickeln Handlungsstrategien für den Umgang mit Verschwörungserzählungen und Desinformationskampagnen – ob im Beruf\, Ehrenamt oder Privatleben. \nWas erwartet euch? \n\nEinstieg ins Thema: Was sind Verschwörungserzählungen? Woran erkennt man sie? Wo begegnen sie uns?\nErfahrungsaustausch: Welche Erzählungen kennt ihr aus euren Communities? Wie geht ihr damit um?\nHintergründe verstehen: Warum entstehen Verschwörungserzählungen? Welche Rolle spielen Identität\, Gruppenzugehörigkeit und politische Instrumentalisierung?\nPraxisbeispiele: Analyse konkreter Fälle – von Migrationsnarrativen bis zu Gesundheitsmythen.\nHandlungsoptionen: Wie kann man Verschwörungserzählungen erkennen und entgegenwirken? Vorstellung von Tools und Strategien.\n\nFür wen? Der Workshop richtet sich an alle\, die sich für politische Bildung interessieren – besonders an Menschen\, die in migrantisch geprägten Communities\, Vereinen oder digitalen Räumen aktiv sind. \nSeminarleitung Laura Ballaschk (La Red) und Anton Livshits \nAnmeldung & Infos  \nDie Teilnahme ist kostenlos. \nAnmeldung unter: Verschwörungserzählungen & Desinformation in diversen Communitys – Formular ausfüllen \nFragen beantwortet Laura per gern E-Mail: ballaschk@la-red.eu \nHinweis: Der Workshop findet in Präsenz statt. Für Verpflegung ist gesorgt. \nWir freuen uns auf einen spannenden Tag mit euch!
URL:https://la-red.eu/veranstaltung/workshop-verschwoerungserzaehlungen-und-desinformation-in-diversen-communities
LOCATION:La Red e.V.\, Alt-Reinickendorf 25\, Berlin\, 13407
CATEGORIES:TpB
ORGANIZER;CN="La Red":MAILTO:la-red@la-red.eu
END:VEVENT
BEGIN:VEVENT
DTSTART;TZID=Europe/Berlin:20251211T103000
DTEND;TZID=Europe/Berlin:20251211T120000
DTSTAMP:20260423T112304
CREATED:20251125T130918Z
LAST-MODIFIED:20251125T130943Z
UID:14298-1765449000-1765454400@la-red.eu
SUMMARY:Abschlussfeier des Projekts "Possible"
DESCRIPTION:✨ Einladung zur Abschlussfeier unseres Projekts „Possible“! ✨\nBist du eine Frau mit Migrationserfahrung\, die in Berlin ihren beruflichen Weg sucht oder neu starten möchte? Dann laden wir dich herzlich zu unserer Jahresabschlussfeier ein!\nLerne unsere Community kennen – eine Gruppe engagierter Frauen aus aller Welt\, die sich gegenseitig unterstützen\, Erfolge feiern und gemeinsam wachsen. 🌱💼 \n🤝 Was dich erwartet:\n• Einblick in das Projekt „Possible“ und seine Angebote\n• Austausch mit inspirierenden Teilnehmerinnen\n• Raum für Motivation\, neue Perspektiven und berufliche Orientierung\n• Netzwerken in einer offenen und herzlichen Atmosphäre\n• Viel positive Energie\nKomm vorbei\, lass dich inspirieren und entdecke\, wie wir dich auf deinem Weg in Berlin unterstützen können! ✨\nWir freuen uns darauf\, dich kennenzulernen!
URL:https://la-red.eu/veranstaltung/abschlussfeier-des-projekts-possible
LOCATION:La Red e.V.\, Alt-Reinickendorf 25\, Berlin\, 13407
CATEGORIES:Possible
ATTACH;FMTTYPE=image/png:https://la-red.eu/wp-content/uploads/2025/11/Possible_FB_JahresabschlussfeiermitTN_25-12-11.png
ORGANIZER;CN="La Red":MAILTO:la-red@la-red.eu
END:VEVENT
END:VCALENDAR