

BEGIN:VCALENDAR
VERSION:2.0
PRODID:-//La Red - ECPv6.14.2//NONSGML v1.0//EN
CALSCALE:GREGORIAN
METHOD:PUBLISH
X-WR-CALNAME:La Red
X-ORIGINAL-URL:https://la-red.eu
X-WR-CALDESC:Veranstaltungen für La Red
REFRESH-INTERVAL;VALUE=DURATION:PT1H
X-Robots-Tag:noindex
X-PUBLISHED-TTL:PT1H
BEGIN:VTIMEZONE
TZID:Europe/Berlin
BEGIN:DAYLIGHT
TZOFFSETFROM:+0100
TZOFFSETTO:+0200
TZNAME:CEST
DTSTART:20250330T010000
END:DAYLIGHT
BEGIN:STANDARD
TZOFFSETFROM:+0200
TZOFFSETTO:+0100
TZNAME:CET
DTSTART:20251026T010000
END:STANDARD
END:VTIMEZONE
BEGIN:VEVENT
DTSTART;TZID=Europe/Berlin:20251216T093000
DTEND;TZID=Europe/Berlin:20251216T163000
DTSTAMP:20260425T124638
CREATED:20251114T092017Z
LAST-MODIFIED:20251114T092415Z
UID:14256-1765877400-1765902600@la-red.eu
SUMMARY:Workshop: Antisemitismus und Rassismen – Gemeinsam handeln lernen
DESCRIPTION:Workshop: Antisemitismus und Rassismen – Gemeinsam handeln lernen \nAntisemitismus und Rassismen sind allgegenwärtig\, auch in den gegenwärtigen gesellschaftlichen Debatten\, die zunehmend polarisiert geführt werden. Gleichzeitig steigt die Zahl antisemitischer und rassistischer Vorfälle\, die Bedrohungslagen nehmen zu. Dies hat sich seit dem Überfall der Hamas auf Israel am 7. Oktober 2023 und dem folgende Gaza-Krieg zusätzlich verschärft. Dabei werden Antisemitismus und Rassismen oft gegeneinander in Stellung gebracht\, was solidarisches Handeln zusätzlich erschwert.\nDer Workshop beleuchtet diese Entwicklungen anhand wissenschaftlicher Analyseformate wie dem Berlin Monitor und zeigt\, wie Meldesysteme arbeiten und welche Definitionen und Verständnisse den Erfassungen zugrunde liegen. Ziel ist es\, konkrete Instrumente und Analysetools kennenzulernen\, um sachliche und solidarische Diskussionen zu führen – jenseits von Hierarchisierung und Gegeneinander-Ausspielen.\nWas erwartet euch:\n\n\n· Klare Analysen: Definitionen\, historische Linien und aktuelle Erscheinungsformen verstehen\n\n\n· Praktische Tools: Einblick in Meldesysteme wie den Berlin Monitor – und wie diese in der eignen Arbeit genutzt werden können\n\n\n· Handlungsstrategien: Antisemitismus- und rassismuskritische Ansätze für die eigene Praxis – ohne Hierarchisierung\, mit Solidarität\n\n\nFür wen? Multiplikator*innen aus Bildung\, Sozialer Arbeit\, Zivilgesellschaft und Aktivismus – alle\, die Wege suchen\, sich solidarisch mit Antisemitismus und Rassismen auseinanderzusetzen\n\nAnmeldung & Infos\nDie Teilnahme ist kostenlos.\nAnmeldung und Fragen unter: berg@la-red.eu\nHinweis: Der Workshop findet in Präsenz statt.\n\nWir freuen uns auf einen spannenden Tag mit euch!\n\nAnmeldung bis: 09.12.2025
URL:https://la-red.eu/veranstaltung/workshop-antisemitismus-und-rassismen-gemeinsam-handeln-lernen
LOCATION:La Red e.V.\, Alt-Reinickendorf 25\, Berlin\, 13407
CATEGORIES:TpB
ORGANIZER;CN="La Red":MAILTO:la-red@la-red.eu
END:VEVENT
END:VCALENDAR