

BEGIN:VCALENDAR
VERSION:2.0
PRODID:-//La Red - ECPv6.14.2//NONSGML v1.0//EN
CALSCALE:GREGORIAN
METHOD:PUBLISH
X-ORIGINAL-URL:https://la-red.eu
X-WR-CALDESC:Veranstaltungen für La Red
REFRESH-INTERVAL;VALUE=DURATION:PT1H
X-Robots-Tag:noindex
X-PUBLISHED-TTL:PT1H
BEGIN:VTIMEZONE
TZID:Europe/Berlin
BEGIN:DAYLIGHT
TZOFFSETFROM:+0100
TZOFFSETTO:+0200
TZNAME:CEST
DTSTART:20260329T010000
END:DAYLIGHT
BEGIN:STANDARD
TZOFFSETFROM:+0200
TZOFFSETTO:+0100
TZNAME:CET
DTSTART:20261025T010000
END:STANDARD
END:VTIMEZONE
BEGIN:VEVENT
DTSTART;TZID=Europe/Berlin:20260513T093000
DTEND;TZID=Europe/Berlin:20260513T170000
DTSTAMP:20260426T012715
CREATED:20260410T122916Z
LAST-MODIFIED:20260413T102432Z
UID:15319-1778664600-1778691600@la-red.eu
SUMMARY:Religionen in der postmigrantischen Gesellschaft - Gestaltungsmöglichkeiten in der postmigrantischen Gesellschaft
DESCRIPTION:Worum geht es? \nMigration gehört zur gesellschaftlichen Realität – und religiöse Communities sind dabei weit mehr als Randerscheinung. Sie sind Orte\, an denen Migration gelebt\, verhandelt und gedeutet wird: von Menschen mit eigenen Migrationserfahrungen\, aber auch von jenen\, die in dominanzgesellschaftlichen Positionen stehen. Genau diese Vielfalt macht religiöse Communities zu einem spannenden und oft unterschätzten Schauplatz gesellschaftlicher Aushandlungsprozesse. \nIn diesem Workshop möchten wir gemeinsam erkunden: Wie sehen diese Aushandlungsprozesse konkret aus? Welche Strategien nutzen religiöse Communities\, um mit unterschiedlichen Vorstellungen von Migration umzugehen? Und: Welche Partizipationsmöglichkeiten entstehen daraus – für die Communities selbst\, für alle\, die mit ihnen arbeiten oder in Kontakt sind als auch für die Demokratie als Ganzes? \nWas erwartet euch?  \n\nEinstieg und Verortung zum Thema: Was tragen wir an Erfahrungen\, Fragen und Bildern zu Religion und Migration in den Raum?\nReligionsbilder: Was ist Religion eigentlich – für dich\, für andere\, für die Gesellschaft? Woher kommen unsere Bilder\, und was verraten sie über uns?\nStrukturen und Politiken: Wie Staaten Religion regeln\, ist sehr verschieden. Was hat das mit unserem eigenen Blick auf Religion zu tun?\nReligiöse Beispiele erkunden: Interviews\, Audioausschnitte\, Texte und gelebte Praxis – wir schauen uns an\, wie Migration in religiösen Communities konkret aussieht und verhandelt wird.\n\n  \nFür wen? Der Workshop richtet sich an alle\, die sich für politische Bildung interessieren – besonders an Menschen\, die in migrantisch oder religiös geprägten Communities oder Vereinen aktiv sind. \nSeminarleitung  Simon Marwecki & Dagmara Wrobel \nAnmeldung & Infos \nDie Teilnahme ist kostenlos. \nAnmeldung unter: marwecki@la-red.eu \nHinweis: Der Workshop findet in Präsenz statt. Für Verpflegung ist gesorgt. \nFragen?  Gerne an marwecki@la-red.eu \nWir freuen uns auf einen spannenden Tag mit euch!
URL:https://la-red.eu/veranstaltung/religionen-in-der-postmigrantischen-gesellschaft-gestaltungsmoeglichkeiten-in-der-postmigrantischen-gesellschaft
LOCATION:La Red e.V.\, Alt-Reinickendorf 25\, Berlin\, 13407
CATEGORIES:TpB
ORGANIZER;CN="Simon Marwecki":MAILTO:marwecki@la-red.eu
END:VEVENT
END:VCALENDAR